BEGIN:VCALENDAR
VERSION:2.0
PRODID:-//Sabre//Sabre VObject 4.5.8//EN
CALSCALE:GREGORIAN
BEGIN:VEVENT
UID:sabre-vobject-f798ef58-bfdc-430f-8d15-36134b9707c7
DTSTAMP:20260423T044811Z
SUMMARY:Hl. Messe
DESCRIPTION:https://pfarreien-bistum-augsburg.df-preview.de/hl-messe_id1749
 683
DTSTART;TZID=Europe/Berlin:20260528T190000
DURATION:PT30M
LOCATION:Mariä Himmelfahrt\, Schlottergasse 2\, 87758 Kronburg-Illerbeuren
END:VEVENT
END:VCALENDAR
