BEGIN:VCALENDAR
VERSION:2.0
PRODID:-//Sabre//Sabre VObject 4.5.8//EN
CALSCALE:GREGORIAN
BEGIN:VEVENT
UID:sabre-vobject-c2c9a88a-97a1-4b01-97f2-0274e5a9f09e
DTSTAMP:20260423T080418Z
SUMMARY:Rosenkranz
DESCRIPTION:https://pfarreien-bistum-augsburg.df-preview.de/rosenkranz_id17
 49681
DTSTART;TZID=Europe/Berlin:20260527T160000
DURATION:PT30M
LOCATION:Mariä Himmelfahrt\, Schlottergasse 2\, 87758 Kronburg-Illerbeuren
END:VEVENT
END:VCALENDAR
