BEGIN:VCALENDAR
VERSION:2.0
PRODID:-//Sabre//Sabre VObject 4.5.8//EN
CALSCALE:GREGORIAN
BEGIN:VEVENT
UID:sabre-vobject-6d79194c-2234-407c-be3f-a90894af15fe
DTSTAMP:20260424T130541Z
SUMMARY:Heilige Messe\, Gebet um Geistliche Berufe\, anschl. eucharistische
  Anbetung bis 19 Uhr
DESCRIPTION:https://pfarreien-bistum-augsburg.df-preview.de/heilige-messe-g
 ebet-um-geistliche-berufe-anschl-eucharistische-anbetung-bis-19-uhr_id1749
 588
DTSTART;TZID=Europe/Berlin:20260507T180000
DURATION:PT30M
LOCATION:Zum Guten Hirten
END:VEVENT
END:VCALENDAR
