BEGIN:VCALENDAR
VERSION:2.0
PRODID:-//Sabre//Sabre VObject 4.5.8//EN
CALSCALE:GREGORIAN
BEGIN:VEVENT
UID:sabre-vobject-fe559906-8724-452a-b45e-bcab4caf133b
DTSTAMP:20260422T222617Z
SUMMARY:Festgottesdienst
DESCRIPTION:https://pfarreien-bistum-augsburg.df-preview.de/festgottesdiens
 t_id1749553
DTSTART;TZID=Europe/Berlin:20260525T090000
DURATION:PT30M
LOCATION:St. Ulrich
END:VEVENT
END:VCALENDAR
