BEGIN:VCALENDAR
VERSION:2.0
PRODID:-//Sabre//Sabre VObject 4.5.8//EN
CALSCALE:GREGORIAN
BEGIN:VEVENT
UID:sabre-vobject-fc865b95-ca5f-4279-a9a8-2ae5db718dd8
DTSTAMP:20260423T061608Z
SUMMARY:Rosenkranz
DESCRIPTION:https://pfarreien-bistum-augsburg.df-preview.de/rosenkranz_id17
 49549
DTSTART;TZID=Europe/Berlin:20260523T180000
DURATION:PT30M
LOCATION:St. Ulrich
END:VEVENT
END:VCALENDAR
