BEGIN:VCALENDAR
VERSION:2.0
PRODID:-//Sabre//Sabre VObject 4.5.8//EN
CALSCALE:GREGORIAN
BEGIN:VEVENT
UID:sabre-vobject-c0d923eb-6ad6-4073-b923-243372ca7f51
DTSTAMP:20260422T063957Z
SUMMARY:Heilige Messe Erstommunion
DESCRIPTION:https://pfarreien-bistum-augsburg.df-preview.de/heilige-messe-e
 rstommunion_id1749458
DTSTART;TZID=Europe/Berlin:20260426T090000
DURATION:PT30M
LOCATION:St. Canisius\, Hochfeldstr. 63\, 86159 Augsburg
END:VEVENT
END:VCALENDAR
