BEGIN:VCALENDAR
VERSION:2.0
PRODID:-//Sabre//Sabre VObject 4.5.8//EN
CALSCALE:GREGORIAN
BEGIN:VEVENT
UID:sabre-vobject-036b2f8b-a852-4c1d-8051-0e1ecf66eca9
DTSTAMP:20260425T165636Z
SUMMARY:Hl.Messe
DESCRIPTION:https://pfarreien-bistum-augsburg.df-preview.de/hl-messe_id1749
 355
DTSTART;TZID=Europe/Berlin:20260508T190000
DURATION:PT30M
LOCATION:St. Lorenz\, Kirchsteig 1\, 86946 Pflugdorf
END:VEVENT
END:VCALENDAR
