BEGIN:VCALENDAR
VERSION:2.0
PRODID:-//Sabre//Sabre VObject 4.5.8//EN
CALSCALE:GREGORIAN
BEGIN:VEVENT
UID:sabre-vobject-08511e3d-4422-4aee-8919-dbcfee80ccff
DTSTAMP:20260424T220928Z
SUMMARY:Bittgang vom Gartenbauverein mit Maiandacht in Reichertshausen
DESCRIPTION:https://pfarreien-bistum-augsburg.df-preview.de/bittgang-vom-ga
 rtenbauverein-mit-maiandacht-in-reichertshausen_id1749350
DTSTART;TZID=Europe/Berlin:20260517T130000
DURATION:PT30M
LOCATION:St. Dionysius
END:VEVENT
END:VCALENDAR
