BEGIN:VCALENDAR
VERSION:2.0
PRODID:-//Sabre//Sabre VObject 4.5.8//EN
CALSCALE:GREGORIAN
BEGIN:VEVENT
UID:sabre-vobject-bb98cb3f-67bb-4a7b-9dce-604298bf7537
DTSTAMP:20260424T110242Z
SUMMARY:St.Martin - Maiandacht
DESCRIPTION:https://pfarreien-bistum-augsburg.df-preview.de/st-martin-maian
 dacht_id1749326
DTSTART;TZID=Europe/Berlin:20260519T190000
DURATION:PT30M
LOCATION:St. Martin
END:VEVENT
END:VCALENDAR
