BEGIN:VCALENDAR
VERSION:2.0
PRODID:-//Sabre//Sabre VObject 4.5.8//EN
CALSCALE:GREGORIAN
BEGIN:VEVENT
UID:sabre-vobject-a38019fb-131b-48b8-a50e-713339d16208
DTSTAMP:20260424T150158Z
SUMMARY:Gebetskreis im Pfarrheim
DESCRIPTION:https://pfarreien-bistum-augsburg.df-preview.de/gebetskreis-im-
 pfarrheim_id1749325
DTSTART;TZID=Europe/Berlin:20260518T190000
DURATION:PT30M
LOCATION:St. Martin
END:VEVENT
END:VCALENDAR
