BEGIN:VCALENDAR
VERSION:2.0
PRODID:-//Sabre//Sabre VObject 4.5.8//EN
CALSCALE:GREGORIAN
BEGIN:VEVENT
UID:sabre-vobject-c4a10313-85ed-4830-8eae-26cec0e39795
DTSTAMP:20260424T184438Z
SUMMARY:Bittgang von St. Martin zu St. Wolfgang\, dort Andacht
DESCRIPTION:https://pfarreien-bistum-augsburg.df-preview.de/bittgang-von-st
 -martin-zu-st-wolfgang-dort-andacht_id1749321
DTSTART;TZID=Europe/Berlin:20260512T190000
DURATION:PT30M
LOCATION:St. Martin
END:VEVENT
END:VCALENDAR
