BEGIN:VCALENDAR
VERSION:2.0
PRODID:-//Sabre//Sabre VObject 4.5.8//EN
CALSCALE:GREGORIAN
BEGIN:VEVENT
UID:sabre-vobject-53b032a4-cda5-42a4-b324-e6f5f34f7092
DTSTAMP:20260425T131414Z
SUMMARY:Bittmesse in Pipinsried
DESCRIPTION:https://pfarreien-bistum-augsburg.df-preview.de/bittmesse-in-pi
 pinsried_id1749306
DTSTART;TZID=Europe/Berlin:20260511T183000
DURATION:PT30M
LOCATION:St. Dionysius
END:VEVENT
END:VCALENDAR
