BEGIN:VCALENDAR
VERSION:2.0
PRODID:-//Sabre//Sabre VObject 4.5.8//EN
CALSCALE:GREGORIAN
BEGIN:VEVENT
UID:sabre-vobject-3d89e2e2-6c08-4c27-928f-5838b78ffb42
DTSTAMP:20260425T022043Z
SUMMARY:Gebetskreis im Pfarrheim
DESCRIPTION:https://pfarreien-bistum-augsburg.df-preview.de/gebetskreis-im-
 pfarrheim_id1749302
DTSTART;TZID=Europe/Berlin:20260504T190000
DURATION:PT30M
LOCATION:St. Martin
END:VEVENT
END:VCALENDAR
