BEGIN:VCALENDAR
VERSION:2.0
PRODID:-//Sabre//Sabre VObject 4.5.8//EN
CALSCALE:GREGORIAN
BEGIN:VEVENT
UID:sabre-vobject-8ce946ba-9f92-4bb6-894b-acea4af478f0
DTSTAMP:20260422T095808Z
SUMMARY:Hl. Messe Verabschiedung PGR anschl. Kirchenratsch
DESCRIPTION:https://pfarreien-bistum-augsburg.df-preview.de/hl-messe-verabs
 chiedung-pgr-anschl-kirchenratsch_id1749299
DTSTART;TZID=Europe/Berlin:20260531T101500
DURATION:PT30M
LOCATION:St. Michael\, Pitzlinger Str. 2\, 86932 Ummendorf
END:VEVENT
END:VCALENDAR
