BEGIN:VCALENDAR
VERSION:2.0
PRODID:-//Sabre//Sabre VObject 4.5.8//EN
CALSCALE:GREGORIAN
BEGIN:VEVENT
UID:sabre-vobject-1ce6ff65-331d-4c9b-b6e5-0eea69b1f1e6
DTSTAMP:20260422T165323Z
SUMMARY:Festgottesdienst als PG-Gottesdienst vor dem Vereinsheim\, musik. g
 est. von der Musikvereinigung\, anschl. gemütliches Beisammensein. Bei Re
 gen ist die Hl. Messe um 9.00 Uhr in der St.-Simpert
DESCRIPTION:https://pfarreien-bistum-augsburg.df-preview.de/festgottesdiens
 t-als-pg-gottesdienst-vor-dem-vereinsheim-musik-gest-von-der-musikvereinig
 ung-anschl-gemuetliches-beisammensein-bei-regen-ist-die-hl-messe-um-9-00-u
 hr-in-der-st-simpert_id1749269
DTSTART;TZID=Europe/Berlin:20260514T090000
DURATION:PT30M
LOCATION:St. Nikolaus
END:VEVENT
END:VCALENDAR
