BEGIN:VCALENDAR
VERSION:2.0
PRODID:-//Sabre//Sabre VObject 4.5.8//EN
CALSCALE:GREGORIAN
BEGIN:VEVENT
UID:sabre-vobject-dac4a647-fc36-4324-b366-4a2a0e0dcf9f
DTSTAMP:20260424T204717Z
SUMMARY:Festgottesdienst
DESCRIPTION:https://pfarreien-bistum-augsburg.df-preview.de/festgottesdiens
 t_id1749256
DTSTART;TZID=Europe/Berlin:20260525T084500
DURATION:PT30M
LOCATION:St. Michael\, Pitzlinger Str. 2\, 86932 Ummendorf
END:VEVENT
END:VCALENDAR
