BEGIN:VCALENDAR
VERSION:2.0
PRODID:-//Sabre//Sabre VObject 4.5.8//EN
CALSCALE:GREGORIAN
BEGIN:VEVENT
UID:sabre-vobject-67c0b6cc-4300-40e1-bfab-6f6ec875fca5
DTSTAMP:20260425T034123Z
SUMMARY:Gebet um Erneuerung des Glaubens in unseren Gemeinden (Eucharistisc
 he Anbetung)
DESCRIPTION:https://pfarreien-bistum-augsburg.df-preview.de/gebet-um-erneue
 rung-des-glaubens-in-unseren-gemeinden-eucharistische-anbetung_id1749223
DTSTART;TZID=Europe/Berlin:20260511T190000
DURATION:PT30M
LOCATION:St. Michael\, Pitzlinger Str. 2\, 86932 Ummendorf
END:VEVENT
END:VCALENDAR
