BEGIN:VCALENDAR
VERSION:2.0
PRODID:-//Sabre//Sabre VObject 4.5.8//EN
CALSCALE:GREGORIAN
BEGIN:VEVENT
UID:sabre-vobject-0378a979-df96-464a-9293-a60987563d85
DTSTAMP:20260421T230958Z
SUMMARY:Maiandacht in der Kapelle
DESCRIPTION:https://pfarreien-bistum-augsburg.df-preview.de/maiandacht-in-d
 er-kapelle_id1749220
DTSTART;TZID=Europe/Berlin:20260501T190000
DURATION:PT30M
LOCATION:St. Michael\, Pitzlinger Str. 2\, 86932 Ummendorf
END:VEVENT
END:VCALENDAR
