BEGIN:VCALENDAR
VERSION:2.0
PRODID:-//Sabre//Sabre VObject 4.5.8//EN
CALSCALE:GREGORIAN
BEGIN:VEVENT
UID:sabre-vobject-a9048dd0-4dd5-4abe-9129-399b0a7a7e9f
DTSTAMP:20260424T121034Z
SUMMARY:Maiandacht in der Kirche
DESCRIPTION:https://pfarreien-bistum-augsburg.df-preview.de/maiandacht-in-d
 er-kirche_id1749214
DTSTART;TZID=Europe/Berlin:20260527T190000
DURATION:PT30M
LOCATION:St. Michael\, Pitzlinger Str. 2\, 86932 Ummendorf
END:VEVENT
END:VCALENDAR
