BEGIN:VCALENDAR
VERSION:2.0
PRODID:-//Sabre//Sabre VObject 4.5.8//EN
CALSCALE:GREGORIAN
BEGIN:VEVENT
UID:sabre-vobject-32f4e5c2-1104-4c7b-a545-03df15ae7b4f
DTSTAMP:20260422T210340Z
SUMMARY:Bittgang nach Fleinhausen
DESCRIPTION:https://pfarreien-bistum-augsburg.df-preview.de/bittgang-nach-f
 leinhausen_id1749203
DTSTART;TZID=Europe/Berlin:20260514T083000
DURATION:PT30M
LOCATION:St. Peter und Paul
END:VEVENT
END:VCALENDAR
