BEGIN:VCALENDAR
VERSION:2.0
PRODID:-//Sabre//Sabre VObject 4.5.8//EN
CALSCALE:GREGORIAN
BEGIN:VEVENT
UID:sabre-vobject-01376933-da67-4588-a4ed-0c89b61ca5df
DTSTAMP:20260423T090814Z
SUMMARY:Heilige Messe für die PG im Festzelt der FFW Zahling\; für alle L
 ebenden und Verstorbenen der Pfarreiengemeinschaft\; Kollekte für die Pfa
 rrei
DESCRIPTION:https://pfarreien-bistum-augsburg.df-preview.de/heilige-messe-f
 uer-die-pg-im-festzelt-der-ffw-zahling-fuer-alle-lebenden-und-verstorbenen
 -der-pfarreiengemeinschaft-kollekte-fuer-die-pfarrei_id1749132
DTSTART;TZID=Europe/Berlin:20260503T103000
DURATION:PT30M
LOCATION:St. Gregor der Große
END:VEVENT
END:VCALENDAR
