BEGIN:VCALENDAR
VERSION:2.0
PRODID:-//Sabre//Sabre VObject 4.5.8//EN
CALSCALE:GREGORIAN
BEGIN:VEVENT
UID:sabre-vobject-0c7a363f-b9f2-4b82-8679-6d3309185db2
DTSTAMP:20260423T103237Z
SUMMARY:Heilige Messe\; Kollekte für die Pfarrei\; Maibaumsegnung\; anschl
 . Feier zum 150. Jubiläum der FFW Zahling
DESCRIPTION:https://pfarreien-bistum-augsburg.df-preview.de/heilige-messe-k
 ollekte-fuer-die-pfarrei-maibaumsegnung-anschl-feier-zum-150-jubilaeum-der
 -ffw-zahling_id1749131
DTSTART;TZID=Europe/Berlin:20260501T090000
DURATION:PT30M
LOCATION:St. Gregor der Große
END:VEVENT
END:VCALENDAR
