BEGIN:VCALENDAR
VERSION:2.0
PRODID:-//Sabre//Sabre VObject 4.5.8//EN
CALSCALE:GREGORIAN
BEGIN:VEVENT
UID:sabre-vobject-3f374b73-fe03-4fd2-9647-ba9c53c466d8
DTSTAMP:20260423T013126Z
SUMMARY:Rosenkranz
DESCRIPTION:https://pfarreien-bistum-augsburg.df-preview.de/rosenkranz_id17
 49117
DTSTART;TZID=Europe/Berlin:20260513T180000
DURATION:PT30M
LOCATION:Heilig Kreuz\,  Petershausener Str. 1\, 85302 Gerolsbach Alberzell
END:VEVENT
END:VCALENDAR
