BEGIN:VCALENDAR
VERSION:2.0
PRODID:-//Sabre//Sabre VObject 4.5.8//EN
CALSCALE:GREGORIAN
BEGIN:VEVENT
UID:sabre-vobject-c6dfd4c3-3740-4720-b30b-bb0ed0894054
DTSTAMP:20260423T094214Z
SUMMARY:KRANKENKOMMUNION in der ganzen PG
DESCRIPTION:https://pfarreien-bistum-augsburg.df-preview.de/krankenkommunio
 n-in-der-ganzen-pg_id1749112
DTSTART;TZID=Europe/Berlin:20260508T083000
DURATION:PT30M
LOCATION:Heilig Kreuz\,  Petershausener Str. 1\, 85302 Gerolsbach Alberzell
END:VEVENT
END:VCALENDAR
