BEGIN:VCALENDAR
VERSION:2.0
PRODID:-//Sabre//Sabre VObject 4.5.8//EN
CALSCALE:GREGORIAN
BEGIN:VEVENT
UID:sabre-vobject-5b88b046-fe90-4b5e-9411-dce056c8a581
DTSTAMP:20260422T111621Z
SUMMARY:Wortgottesfeier
DESCRIPTION:https://pfarreien-bistum-augsburg.df-preview.de/wortgottesfeier
 _id1749107
DTSTART;TZID=Europe/Berlin:20260531T103000
DURATION:PT30M
LOCATION:St. Stephan
END:VEVENT
END:VCALENDAR
