BEGIN:VCALENDAR
VERSION:2.0
PRODID:-//Sabre//Sabre VObject 4.5.8//EN
CALSCALE:GREGORIAN
BEGIN:VEVENT
UID:sabre-vobject-282bffe3-1a71-4eb4-8bca-e71e16109260
DTSTAMP:20260422T162318Z
SUMMARY:Heilige Messe
DESCRIPTION:https://pfarreien-bistum-augsburg.df-preview.de/heilige-messe_i
 d1749105
DTSTART;TZID=Europe/Berlin:20260525T103000
DURATION:PT30M
LOCATION:St. Stephan
END:VEVENT
END:VCALENDAR
