BEGIN:VCALENDAR
VERSION:2.0
PRODID:-//Sabre//Sabre VObject 4.5.8//EN
CALSCALE:GREGORIAN
BEGIN:VEVENT
UID:sabre-vobject-391b6617-214c-4ce8-b4fe-535f92a32d56
DTSTAMP:20260424T110100Z
SUMMARY:Maiandacht gest. Trachtenverein musik. Umrahmung Hausmusik Auer
DESCRIPTION:https://pfarreien-bistum-augsburg.df-preview.de/maiandacht-gest
 -trachtenverein-musik-umrahmung-hausmusik-auer_id1749101
DTSTART;TZID=Europe/Berlin:20260510T190000
DURATION:PT30M
LOCATION:Mariä Heimsuchung
END:VEVENT
END:VCALENDAR
