BEGIN:VCALENDAR
VERSION:2.0
PRODID:-//Sabre//Sabre VObject 4.5.8//EN
CALSCALE:GREGORIAN
BEGIN:VEVENT
UID:sabre-vobject-fe097f8b-46fe-4f82-8294-ea2829d10cc9
DTSTAMP:20260422T135535Z
SUMMARY:Wallfahrtsmesse
DESCRIPTION:https://pfarreien-bistum-augsburg.df-preview.de/wallfahrtsmesse
 _id1749093
DTSTART;TZID=Europe/Berlin:20260531T100000
DURATION:PT30M
LOCATION:Mariä Schmerzen
END:VEVENT
END:VCALENDAR
