BEGIN:VCALENDAR
VERSION:2.0
PRODID:-//Sabre//Sabre VObject 4.5.8//EN
CALSCALE:GREGORIAN
BEGIN:VEVENT
UID:sabre-vobject-64afa29e-386d-4271-ad39-2fc9a8690ca0
DTSTAMP:20260424T171548Z
SUMMARY:Hl. Messe entfällt
DESCRIPTION:https://pfarreien-bistum-augsburg.df-preview.de/hl-messe-entfae
 llt_id1749079
DTSTART;TZID=Europe/Berlin:20260528T190000
DURATION:PT30M
LOCATION:St. Michael
END:VEVENT
END:VCALENDAR
