BEGIN:VCALENDAR
VERSION:2.0
PRODID:-//Sabre//Sabre VObject 4.5.8//EN
CALSCALE:GREGORIAN
BEGIN:VEVENT
UID:sabre-vobject-54624e31-4b7b-4a37-8462-5fa9e4ab828c
DTSTAMP:20260424T110054Z
SUMMARY:Andechswallfahrt der Pfarrei Hofstetten\n        	3:30 	Beginn Kirc
 he Hofstetten (für Pfarrei Hofstetten und Hagenheim)\n	9:00 	Wallfahrtsme
 sse in Andechs \n	13:00	Abschlussandacht in Andechs\, 
DESCRIPTION:https://pfarreien-bistum-augsburg.df-preview.de/andechswallfahr
 t-der-pfarrei-hofstetten-3-30-beginn-kirche-hofstetten-fuer-pfarrei-hofste
 tten-und-hagenheim-9-00-wallfahrtsmesse-in-andechs-13-00-abschlussandacht-
 in-andechs_id1749078
DTSTART;TZID=Europe/Berlin:20260526T000000
DURATION:PT30M
LOCATION:St. Michael
END:VEVENT
END:VCALENDAR
