BEGIN:VCALENDAR
VERSION:2.0
PRODID:-//Sabre//Sabre VObject 4.5.8//EN
CALSCALE:GREGORIAN
BEGIN:VEVENT
UID:sabre-vobject-f29a7b6c-1d88-4417-9793-5e3a204a30bd
DTSTAMP:20260422T031539Z
SUMMARY:Messe
DESCRIPTION:https://pfarreien-bistum-augsburg.df-preview.de/messe_id1749062
DTSTART;TZID=Europe/Berlin:20260511T090000
DURATION:PT30M
LOCATION:St. Michael\, St.-Michaels-Platz\, 86316 Friedberg
END:VEVENT
END:VCALENDAR
