BEGIN:VCALENDAR
VERSION:2.0
PRODID:-//Sabre//Sabre VObject 4.5.8//EN
CALSCALE:GREGORIAN
BEGIN:VEVENT
UID:sabre-vobject-d9c0d053-e2b6-4a83-bbb9-9e0536e623d6
DTSTAMP:20260422T050125Z
SUMMARY:Messe
DESCRIPTION:https://pfarreien-bistum-augsburg.df-preview.de/messe_id1749061
DTSTART;TZID=Europe/Berlin:20260510T120000
DURATION:PT30M
LOCATION:St. Michael\, St.-Michaels-Platz\, 86316 Friedberg
END:VEVENT
END:VCALENDAR
