BEGIN:VCALENDAR
VERSION:2.0
PRODID:-//Sabre//Sabre VObject 4.5.8//EN
CALSCALE:GREGORIAN
BEGIN:VEVENT
UID:sabre-vobject-81b92c8b-da41-4155-850f-024f87747072
DTSTAMP:20260423T001847Z
SUMMARY:Wallfahrtsmesse um Fürsprache der schmerzhaften Muttergottes für 
 alle Pilger und ihre Anliegen
DESCRIPTION:https://pfarreien-bistum-augsburg.df-preview.de/wallfahrtsmesse
 -um-fuersprache-der-schmerzhaften-muttergottes-fuer-alle-pilger-und-ihre-a
 nliegen_id1749053
DTSTART;TZID=Europe/Berlin:20260526T090000
DURATION:PT30M
LOCATION:Mariä Schmerzen
END:VEVENT
END:VCALENDAR
