BEGIN:VCALENDAR
VERSION:2.0
PRODID:-//Sabre//Sabre VObject 4.5.8//EN
CALSCALE:GREGORIAN
BEGIN:VEVENT
UID:sabre-vobject-083158e3-64c0-4a64-8152-43243a635487
DTSTAMP:20260422T111243Z
SUMMARY:Bittgang zum Endreskreuz\, Fleinhausen (entfällt bei Regen)
DESCRIPTION:https://pfarreien-bistum-augsburg.df-preview.de/bittgang-zum-en
 dreskreuz-fleinhausen-entfaellt-bei-regen_id1749042
DTSTART;TZID=Europe/Berlin:20260509T190000
DURATION:PT30M
LOCATION:St. Peter und Paul
END:VEVENT
END:VCALENDAR
