BEGIN:VCALENDAR
VERSION:2.0
PRODID:-//Sabre//Sabre VObject 4.5.8//EN
CALSCALE:GREGORIAN
BEGIN:VEVENT
UID:sabre-vobject-ab585a2c-d47b-4d4d-9b3f-18a35bda425c
DTSTAMP:20260423T100350Z
SUMMARY:Wallfahrtsmesse um Fürsprache der schmerzhaften Muttergottes für 
 alle Pilger und ihre Anliegen
DESCRIPTION:https://pfarreien-bistum-augsburg.df-preview.de/wallfahrtsmesse
 -um-fuersprache-der-schmerzhaften-muttergottes-fuer-alle-pilger-und-ihre-a
 nliegen_id1749015
DTSTART;TZID=Europe/Berlin:20260519T090000
DURATION:PT30M
LOCATION:Mariä Schmerzen
END:VEVENT
END:VCALENDAR
