BEGIN:VCALENDAR
VERSION:2.0
PRODID:-//Sabre//Sabre VObject 4.5.8//EN
CALSCALE:GREGORIAN
BEGIN:VEVENT
UID:sabre-vobject-f6d1b429-624d-4d79-aeaf-1e5c19079512
DTSTAMP:20260424T075010Z
SUMMARY:Marienmesse anschl. Fahrzeugsegnung
DESCRIPTION:https://pfarreien-bistum-augsburg.df-preview.de/marienmesse-ans
 chl-fahrzeugsegnung_id1749005
DTSTART;TZID=Europe/Berlin:20260513T200000
DURATION:PT30M
LOCATION:Mariä Schmerzen
END:VEVENT
END:VCALENDAR
