BEGIN:VCALENDAR
VERSION:2.0
PRODID:-//Sabre//Sabre VObject 4.5.8//EN
CALSCALE:GREGORIAN
BEGIN:VEVENT
UID:sabre-vobject-ff63c2b6-0bef-4cfb-bf83-fc33ed64969f
DTSTAMP:20260425T020837Z
SUMMARY:Seniorentreffen
DESCRIPTION:https://pfarreien-bistum-augsburg.df-preview.de/seniorentreffen
 _id1748995
DTSTART;TZID=Europe/Berlin:20260507T140000
DURATION:PT30M
LOCATION:St. Michael
END:VEVENT
END:VCALENDAR
