BEGIN:VCALENDAR
VERSION:2.0
PRODID:-//Sabre//Sabre VObject 4.5.8//EN
CALSCALE:GREGORIAN
BEGIN:VEVENT
UID:sabre-vobject-313e8f7e-7321-40db-9c1c-676c10534f3a
DTSTAMP:20260425T032110Z
SUMMARY:Sing mit in der Kirche in Hofstetten
DESCRIPTION:https://pfarreien-bistum-augsburg.df-preview.de/sing-mit-in-der
 -kirche-in-hofstetten_id1748957
DTSTART;TZID=Europe/Berlin:20260504T190000
DURATION:PT30M
LOCATION:St. Michael
END:VEVENT
END:VCALENDAR
