BEGIN:VCALENDAR
VERSION:2.0
PRODID:-//Sabre//Sabre VObject 4.5.8//EN
CALSCALE:GREGORIAN
BEGIN:VEVENT
UID:sabre-vobject-e198356c-d128-4d71-a48e-37c02d7d730f
DTSTAMP:20260425T154643Z
SUMMARY:Sonntgl. Vorabendmesse
DESCRIPTION:https://pfarreien-bistum-augsburg.df-preview.de/sonntgl-voraben
 dmesse_id1748930
DTSTART;TZID=Europe/Berlin:20260509T183000
DURATION:PT30M
LOCATION:Mariä Verkündigung
END:VEVENT
END:VCALENDAR
