BEGIN:VCALENDAR
VERSION:2.0
PRODID:-//Sabre//Sabre VObject 4.5.8//EN
CALSCALE:GREGORIAN
BEGIN:VEVENT
UID:sabre-vobject-14ce7de8-0f8a-4910-ab58-0e8efb2398cd
DTSTAMP:20260425T000631Z
SUMMARY:Rosenkranz
DESCRIPTION:https://pfarreien-bistum-augsburg.df-preview.de/rosenkranz_id17
 48925
DTSTART;TZID=Europe/Berlin:20260506T180000
DURATION:PT30M
LOCATION:Mariä Verkündigung
END:VEVENT
END:VCALENDAR
