BEGIN:VCALENDAR
VERSION:2.0
PRODID:-//Sabre//Sabre VObject 4.5.8//EN
CALSCALE:GREGORIAN
BEGIN:VEVENT
UID:sabre-vobject-78e6606f-429a-4617-b19f-70a7cc78e6ac
DTSTAMP:20260426T023356Z
SUMMARY:Maiandacht gestaltet vom Pfarrgemeinderat mit Zeitlos
DESCRIPTION:https://pfarreien-bistum-augsburg.df-preview.de/maiandacht-gest
 altet-vom-pfarrgemeinderat-mit-zeitlos_id1748922
DTSTART;TZID=Europe/Berlin:20260510T183000
DURATION:PT30M
LOCATION:St. Nikolaus
END:VEVENT
END:VCALENDAR
