BEGIN:VCALENDAR
VERSION:2.0
PRODID:-//Sabre//Sabre VObject 4.5.8//EN
CALSCALE:GREGORIAN
BEGIN:VEVENT
UID:sabre-vobject-fcc9d02d-da05-4001-84b5-3e25dfdb68cb
DTSTAMP:20260423T022317Z
SUMMARY:Heilige Messe
DESCRIPTION:https://pfarreien-bistum-augsburg.df-preview.de/heilige-messe_i
 d1748917
DTSTART;TZID=Europe/Berlin:20260525T090000
DURATION:PT30M
LOCATION:St. Dionysius
END:VEVENT
END:VCALENDAR
