BEGIN:VCALENDAR
VERSION:2.0
PRODID:-//Sabre//Sabre VObject 4.5.8//EN
CALSCALE:GREGORIAN
BEGIN:VEVENT
UID:sabre-vobject-3ed475c2-a514-4648-85e5-7f6c69c5175d
DTSTAMP:20260424T102031Z
SUMMARY:Fatimarosenkranz
DESCRIPTION:https://pfarreien-bistum-augsburg.df-preview.de/fatimarosenkran
 z_id1748908
DTSTART;TZID=Europe/Berlin:20260513T192500
DURATION:PT30M
LOCATION:Mariä Schmerzen
END:VEVENT
END:VCALENDAR
