BEGIN:VCALENDAR
VERSION:2.0
PRODID:-//Sabre//Sabre VObject 4.5.8//EN
CALSCALE:GREGORIAN
BEGIN:VEVENT
UID:sabre-vobject-e40012ce-7b67-48af-bffe-ede3194b4aad
DTSTAMP:20260424T145709Z
SUMMARY:Hl. Messe in St. Margaret
DESCRIPTION:https://pfarreien-bistum-augsburg.df-preview.de/hl-messe-in-st-
 margaret_id1748779
DTSTART;TZID=Europe/Berlin:20260422T180000
DURATION:PT30M
LOCATION:St. Ulrich und Afra
END:VEVENT
END:VCALENDAR
