BEGIN:VCALENDAR
VERSION:2.0
PRODID:-//Sabre//Sabre VObject 4.5.8//EN
CALSCALE:GREGORIAN
BEGIN:VEVENT
UID:sabre-vobject-ec4708b8-c798-426c-bcb4-7ad195ee2efe
DTSTAMP:20260424T173842Z
SUMMARY:Einweihung und Segnung des neu erbauten Feuerwehrgerätehauses Unte
 relchingen mit Fahrzeugübergabe und Segnung des neuen LF 20
DESCRIPTION:https://pfarreien-bistum-augsburg.df-preview.de/einweihung-und-
 segnung-des-neu-erbauten-feuerwehrgeraetehauses-unterelchingen-mit-fahrzeu
 guebergabe-und-segnung-des-neuen-lf-20_id1748679
DTSTART;TZID=Europe/Berlin:20260424T180000
DURATION:PT30M
LOCATION:St. Michael
END:VEVENT
END:VCALENDAR
