BEGIN:VCALENDAR
VERSION:2.0
PRODID:-//Sabre//Sabre VObject 4.5.8//EN
CALSCALE:GREGORIAN
BEGIN:VEVENT
UID:sabre-vobject-49c1eb86-52bb-41be-b49f-bf2de9179013
DTSTAMP:20260423T132849Z
SUMMARY:Kommunionausflug nach Augsburg mit Eltern - Abfahrt Schule Sulzberg
  / Rückkehr ca. 19:00 Uhr
DESCRIPTION:https://pfarreien-bistum-augsburg.df-preview.de/kommunionausflu
 g-nach-augsburg-mit-eltern-abfahrt-schule-sulzberg-rueckkehr-ca-19-00-uhr_
 id1748620
DTSTART;TZID=Europe/Berlin:20260427T080000
DURATION:PT30M
LOCATION:Hlgst. Dreifaltigkeit\, Sonthofener Str. 1\, 87477 Sulzberg
END:VEVENT
END:VCALENDAR
