BEGIN:VCALENDAR
VERSION:2.0
PRODID:-//Sabre//Sabre VObject 4.5.8//EN
CALSCALE:GREGORIAN
BEGIN:VEVENT
UID:sabre-vobject-7f8746cb-f389-409f-b77c-85434da8e735
DTSTAMP:20260424T024118Z
SUMMARY:Rosenkranz in der Rochuskapelle
DESCRIPTION:https://pfarreien-bistum-augsburg.df-preview.de/rosenkranz-in-d
 er-rochuskapelle_id1748415
DTSTART;TZID=Europe/Berlin:20260501T160000
DURATION:PT30M
LOCATION:St. Martin
END:VEVENT
END:VCALENDAR
