BEGIN:VCALENDAR
VERSION:2.0
PRODID:-//Sabre//Sabre VObject 4.5.8//EN
CALSCALE:GREGORIAN
BEGIN:VEVENT
UID:sabre-vobject-df6668be-94ca-40dd-be97-1e76fd0dba44
DTSTAMP:20260422T031535Z
SUMMARY:Heilige Messe  -  9:00 Uhr Rosenkranz
DESCRIPTION:https://pfarreien-bistum-augsburg.df-preview.de/heilige-messe-9
 -00-uhr-rosenkranz_id1748359
DTSTART;TZID=Europe/Berlin:20260426T093000
DURATION:PT30M
LOCATION:Mariä Himmelfahrt\, Portnerstr. 2\, 86356 Neusäß-Täfertingen
END:VEVENT
END:VCALENDAR
