BEGIN:VCALENDAR
VERSION:2.0
PRODID:-//Sabre//Sabre VObject 4.5.8//EN
CALSCALE:GREGORIAN
BEGIN:VEVENT
UID:sabre-vobject-30c514de-3ae7-43bd-86d3-9adb8e47caa9
DTSTAMP:20260422T111448Z
SUMMARY:Rosenkranz
DESCRIPTION:https://pfarreien-bistum-augsburg.df-preview.de/rosenkranz_id17
 48303
DTSTART;TZID=Europe/Berlin:20260426T093000
DURATION:PT30M
LOCATION:Hlgst. Dreifaltigkeit\, Sonthofener Str. 1\, 87477 Sulzberg
END:VEVENT
END:VCALENDAR
