BEGIN:VCALENDAR
VERSION:2.0
PRODID:-//Sabre//Sabre VObject 4.5.8//EN
CALSCALE:GREGORIAN
BEGIN:VEVENT
UID:sabre-vobject-6f41a66d-d580-4a45-a0b9-452059e0af04
DTSTAMP:20260425T232934Z
SUMMARY:Kinderwortgottesdienst - Vater unser im Himmel
DESCRIPTION:https://pfarreien-bistum-augsburg.df-preview.de/kinderwortgotte
 sdienst-vater-unser-im-himmel_id1748288
DTSTART;TZID=Europe/Berlin:20260426T103000
DURATION:PT30M
LOCATION:St. Martin
END:VEVENT
END:VCALENDAR
